BEGIN:VCALENDAR
VERSION:2.0
PRODID:-//wp-events-plugin.com//7.2.3.1//EN
BEGIN:VEVENT
UID:0-177@iwmi.org
DTSTART;VALUE=DATE:20190215
DTEND;VALUE=DATE:20190303
DTSTAMP:20190214T044135Z
URL:https://www.iwmi.org/events/young-professionals-e-forum/
SUMMARY:Young Professionals e-Forum – International Commission on Irrigat
 ion and Drainage (ICID)
DESCRIPTION:ICID invites young professionals as well as experienced stakeho
 lders from government\, industry and academia to take part in this e-forum
  on February 15 to March 2\, 2019. The aim is to explore the opportunities
  and threats involved in solar-powered irrigation systems\, which many cou
 ntries are promoting as a sustainble solution to rising food and energy de
 mand as well as a means to reduce agriculture’s carbon footprint and enh
 ance its resilience in the face of climate change impacts.\n\nPetra Schmit
 ter\, leader of the Agriculture Water Management Research Group at the Int
 ernational Water Management Institute (IWMI)\, will serve as the forum’s
  discussion mentor.\n\nFor more information: https://www.linkedin.com/grou
 ps/6990321/\n\n&nbsp\;
ATTACH;FMTTYPE=image/jpeg:https://mlpyskbirng6.i.optimole.com/cb:zhvU.e7db
 /w:850/h:567/q:mauto/g:sm/f:best/https://www.iwmi.org/wp-content/uploads/2
 019/02/Petra.jpg
END:VEVENT
END:VCALENDAR