BEGIN:VCALENDAR
VERSION:2.0
PRODID:-//wp-events-plugin.com//7.2.3.1//EN
BEGIN:VEVENT
UID:0-16@iwmi.org
DTSTART;VALUE=DATE:20140831
DTEND;VALUE=DATE:20140906
DTSTAMP:20240407T163534Z
URL:https://www.iwmi.org/events/world-water-week-2014/
SUMMARY:IWMI at World Water Week 2014
DESCRIPTION:Energy and Water. 
ATTACH;FMTTYPE=image/jpeg:https://mlpyskbirng6.i.optimole.com/cb:Jg6D.e890
 /w:512/h:268/q:mauto/g:sm/f:best/https://www.iwmi.org/wp-content/uploads/2
 024/04/World-Water-Week-logo-blue.png
LOCATION:Stockholm\, Sweden\, Stockholm\, Sweden\, Stockholm\, Sweden
GEO:59.32932349999999;18.068580800000063
X-APPLE-STRUCTURED-LOCATION;VALUE=URI;X-ADDRESS=Stockholm\, Sweden\, Stockh
 olm\, Sweden;X-APPLE-RADIUS=100;X-TITLE=Stockholm\, Sweden:geo:59.32932349
 999999,18.068580800000063
END:VEVENT
END:VCALENDAR