BEGIN:VCALENDAR
VERSION:2.0
PRODID:-//wp-events-plugin.com//7.2.3.1//EN
BEGIN:VEVENT
UID:0-699@iwmi.org
DTSTART;TZID=Asia/Colombo;VALUE=DATE:20250706
DTEND;TZID=Asia/Colombo;VALUE=DATE:20250707
DTSTAMP:20250422T070017Z
URL:https://www.iwmi.org/events/world-rural-development-day-2025/
SUMMARY:World Rural Development Day 2025
DESCRIPTION:World Rural Development Day is celebrated to inform and remind 
 people of their responsibility for collaborative actions on integrated rur
 al development as outlined in the SDGs.
ATTACH;FMTTYPE=image/jpeg:https://mlpyskbirng6.i.optimole.com/cb:Jg6D.e890
 /w:2560/h:1076/q:mauto/g:sm/f:best/https://www.iwmi.org/wp-content/uploads
 /2025/04/World-Rural-Development-Day-2025-scaled.png
END:VEVENT
BEGIN:VTIMEZONE
TZID:Asia/Colombo
X-LIC-LOCATION:Asia/Colombo
BEGIN:STANDARD
DTSTART:20240706T000000
TZOFFSETFROM:+0530
TZOFFSETTO:+0530
TZNAME:+0530
END:STANDARD
END:VTIMEZONE
END:VCALENDAR