BEGIN:VCALENDAR
VERSION:2.0
PRODID:-//wp-events-plugin.com//7.2.3.1//EN
BEGIN:VEVENT
UID:0-549@iwmi.org
DTSTART;VALUE=DATE:20240421
DTEND;VALUE=DATE:20240422
DTSTAMP:20240417T080335Z
URL:https://www.iwmi.org/events/world-creativity-and-innovation-day-2024/
SUMMARY:World Creativity and Innovation Day 2024
DESCRIPTION:World Creativity and Innovation Day aims to raise the awareness
  of the role of creativity and innovation in all aspects of human developm
 ent.
ATTACH;FMTTYPE=image/jpeg:https://mlpyskbirng6.i.optimole.com/cb:Jg6D.e890
 /w:950/h:475/q:mauto/g:sm/f:best/https://www.iwmi.org/wp-content/uploads/2
 024/04/World-Creativity-ph-text-1-e1713340892660.png
END:VEVENT
END:VCALENDAR