BEGIN:VCALENDAR
VERSION:2.0
PRODID:-//wp-events-plugin.com//7.2.3.1//EN
BEGIN:VEVENT
UID:0-452@iwmi.org
DTSTART:20231027T033000Z
DTEND:20231027T101500Z
DTSTAMP:20231109T112040Z
URL:https://www.iwmi.org/events/workshop-water-storage-management-issues-i
 ndia/
SUMMARY:Workshop on water storage management and issues in India
DESCRIPTION:Implemented by the International Water Management Institute (IW
 MI) and the South Asia office of the Global Water Partnership (GWP)\, the 
 project duration is 3-years funded by the Department of State (DOS) of the
  United States Government.
ATTACH;FMTTYPE=image/jpeg:https://mlpyskbirng6.i.optimole.com/cb:Jg6D.e890
 /w:1202/h:800/q:mauto/g:sm/f:best/https://www.iwmi.org/wp-content/uploads/
 2023/10/water-storage-india.jpg
LOCATION:New Delhi\, India\, New Delhi\, India\, New Delhi\, India
X-APPLE-STRUCTURED-LOCATION;VALUE=URI;X-ADDRESS=New Delhi\, India\, New Del
 hi\, India;X-APPLE-RADIUS=100;X-TITLE=New Delhi\, India:geo:0,0
END:VEVENT
END:VCALENDAR