BEGIN:VCALENDAR
VERSION:2.0
PRODID:-//wp-events-plugin.com//7.2.3.1//EN
BEGIN:VEVENT
UID:0-833@iwmi.org
DTSTART:20260324T190000Z
DTEND:20260324T190000Z
DTSTAMP:20260319T083233Z
URL:https://www.iwmi.org/events/wefe-nexus-policy-webinar-8/
SUMMARY:WEFE Nexus Policy Webinar 8: Adapting agriculture and water managem
 ent to rising salinity
DESCRIPTION:This webinar shares the experience of formulating pathways toge
 ther with farmers in high\, medium and low saline areas in coastal Banglad
 esh.
ATTACH;FMTTYPE=image/jpeg:https://mlpyskbirng6.i.optimole.com/cb:Jg6D.e890
 /w:805/h:414/q:mauto/g:sm/f:best/https://www.iwmi.org/wp-content/uploads/2
 026/03/WEFE-Nexus-Policy-Webinar-8.png
LOCATION:https://us02web.zoom.us/webinar/register/WN_8dTXuFZER82PcLfb5BOmcg
 #/registration
END:VEVENT
END:VCALENDAR