BEGIN:VCALENDAR
VERSION:2.0
PRODID:-//wp-events-plugin.com//7.2.3.1//EN
BEGIN:VEVENT
UID:0-854@iwmi.org
DTSTART:20260430T140000Z
DTEND:20260430T153000Z
DTSTAMP:20260421T025830Z
URL:https://www.iwmi.org/events/watertalk-5/
SUMMARY:WaterTalk 5 - Sustainable aquaculture for food security and prosper
 ity in West Africa
DESCRIPTION:This edition of WaterTalk will explore how sustainable aquacult
 ure can help advance food security economic development and water resilien
 ce in West Africa. 
ATTACH;FMTTYPE=image/jpeg:https://mlpyskbirng6.i.optimole.com/cb:Jg6D.e890
 /w:778/h:320/q:mauto/g:sm/f:best/https://www.iwmi.org/wp-content/uploads/2
 026/04/WaterTalk-5.png
LOCATION:https://cgiar.sharepoint.com/sites/IWMI/CKM/Lists/Events/DispForm.
 aspx?ID=743&e=C5UViV
END:VEVENT
END:VCALENDAR