BEGIN:VCALENDAR
VERSION:2.0
PRODID:-//wp-events-plugin.com//7.2.3.1//EN
BEGIN:VEVENT
UID:0-302@iwmi.org
DTSTART:20210321T190000Z
DTEND:20210325T190000Z
DTSTAMP:20230721T080228Z
URL:https://www.iwmi.org/events/water-online-week-2021/
SUMMARY:Water Online Week 2021
DESCRIPTION:As the World Bank Group aspires to foster a green\, resilient\,
  inclusive and transformative recovery around the world\, the Water Global
  Practice rises to the challenges of climate change and COVID-19 in its ye
 arly flagship event: Water Online Week 2021: Water\, Climate\, Action!
LOCATION:\, \, 
X-APPLE-STRUCTURED-LOCATION;VALUE=URI;X-ADDRESS=\, ;X-APPLE-RADIUS=100;X-TI
 TLE=:geo:0,0
END:VEVENT
END:VCALENDAR