BEGIN:VCALENDAR
VERSION:2.0
PRODID:-//wp-events-plugin.com//7.2.3.1//EN
BEGIN:VEVENT
UID:0-374@iwmi.org
DTSTART:20220322T050000Z
DTEND:20220322T050000Z
DTSTAMP:20220331T082357Z
URL:https://www.iwmi.org/events/water-and-sustainable-development-seminar-
 series/
SUMMARY:Water and Sustainable Development Seminar Series
DESCRIPTION:The University of Glasgow\, through its School of Interdiscipli
 nary Studies\, is delighted to present a Global Webinar Series on Water an
 d sustainable development.
END:VEVENT
END:VCALENDAR