BEGIN:VCALENDAR
VERSION:2.0
PRODID:-//wp-events-plugin.com//7.2.3.1//EN
BEGIN:VEVENT
UID:0-225@iwmi.org
DTSTART:20201018T183000Z
DTEND:20201022T183000Z
DTSTAMP:20201015T091727Z
URL:https://www.iwmi.org/events/virtual-convention-2020-digital-dynamism-f
 or-adaptive-food-systems/
SUMMARY:Virtual Convention: 2020 Digital Dynamism for Adaptive Food Systems
  (ONLINE)
DESCRIPTION:The need for resilient food systems comes into stark relief dur
 ing a crisis. Responses must be agile and adaptive\, facilitating the quic
 kest possible recovery while equipping these systems to adaptively manage 
 or avert crises in the future. 
LOCATION:\, \, 
X-APPLE-STRUCTURED-LOCATION;VALUE=URI;X-ADDRESS=\, ;X-APPLE-RADIUS=100;X-TI
 TLE=:geo:0,0
END:VEVENT
END:VCALENDAR