BEGIN:VCALENDAR
VERSION:2.0
PRODID:-//wp-events-plugin.com//7.2.3.1//EN
BEGIN:VEVENT
UID:0-295@iwmi.org
DTSTART:20210314T190000Z
DTEND:20210319T190000Z
DTSTAMP:20210305T141638Z
URL:https://www.iwmi.org/events/virtual-conference-on-disaster-risk-reduct
 ion/
SUMMARY:Virtual Conference on Disaster Risk Reduction
DESCRIPTION:Authors of the papers need not register. The contact details of
  all authors are already available with the conference organizers and join
 ing link will be sent to all authors one week before the conference. Non-a
 uthor participatns can register till 12 March 2021.
LOCATION:\, \, 
X-APPLE-STRUCTURED-LOCATION;VALUE=URI;X-ADDRESS=\, ;X-APPLE-RADIUS=100;X-TI
 TLE=:geo:0,0
END:VEVENT
END:VCALENDAR