BEGIN:VCALENDAR
VERSION:2.0
PRODID:-//wp-events-plugin.com//7.2.3.1//EN
BEGIN:VEVENT
UID:0-263@iwmi.org
DTSTART;TZID=Asia/Bangkok:20201124T150000
DTEND;TZID=Asia/Bangkok:20201125T230000
DTSTAMP:20201113T082142Z
URL:https://www.iwmi.org/events/united-nations-international-conference-on
 -space-based-technologies-for-disaster-risk-reduction-lessons-learned-duri
 ng-the-unprecedented-pandemic-situation/
SUMMARY:United Nations International Conference on Space-based Technologies
  for Disaster Risk Reduction - "Lessons learned during the unprecedented p
 andemic situation"
DESCRIPTION:The world has faced unprecedented challenges since the outbreak
  of COVID-19 that has impacted humanity. Responding to disasters and keepi
 ng the cities and communities safe and resilient during a pandemic is no m
 ore a ‘business as usual’.
LOCATION:\, \, 
X-APPLE-STRUCTURED-LOCATION;VALUE=URI;X-ADDRESS=\, ;X-APPLE-RADIUS=100;X-TI
 TLE=:geo:0,0
END:VEVENT
BEGIN:VTIMEZONE
TZID:Asia/Bangkok
X-LIC-LOCATION:Asia/Bangkok
BEGIN:STANDARD
DTSTART:20191125T150000
TZOFFSETFROM:+0700
TZOFFSETTO:+0700
TZNAME:+07
END:STANDARD
END:VTIMEZONE
END:VCALENDAR