BEGIN:VCALENDAR
VERSION:2.0
PRODID:-//wp-events-plugin.com//7.2.3.1//EN
BEGIN:VEVENT
UID:0-836@iwmi.org
DTSTART;TZID=Asia/Seoul:20260421T090000
DTEND;TZID=Asia/Seoul:20260425T180000
DTSTAMP:20260416T085456Z
URL:https://www.iwmi.org/events/unfccc-climate-week-3/
SUMMARY:UNFCCC Climate Week 3
DESCRIPTION:Climate Week 3 brings policymakers and stakeholders together to
  advance practical\, collaborative solutions for ambitious climate action.
ATTACH;FMTTYPE=image/jpeg:https://mlpyskbirng6.i.optimole.com/cb:Jg6D.e890
 /w:950/h:475/q:mauto/g:sm/f:best/https://www.iwmi.org/wp-content/uploads/2
 026/03/WBGIMF-Spring-2.png
LOCATION:Yeosu Expo Convention Center\,   1 Bangnamhoe-gil\, Yeosu-si\, Jeo
 llanam-do\, South Korea
GEO:34.750945;127.746939
X-APPLE-STRUCTURED-LOCATION;VALUE=URI;X-ADDRESS=  1 Bangnamhoe-gil\, Yeosu-
 si\, Jeollanam-do\, South Korea;X-APPLE-RADIUS=100;X-TITLE=Yeosu Expo Conv
 ention Center:geo:34.750945,127.746939
END:VEVENT
BEGIN:VTIMEZONE
TZID:Asia/Seoul
X-LIC-LOCATION:Asia/Seoul
BEGIN:STANDARD
DTSTART:20250421T090000
TZOFFSETFROM:+0900
TZOFFSETTO:+0900
TZNAME:KST
END:STANDARD
END:VTIMEZONE
END:VCALENDAR