BEGIN:VCALENDAR
VERSION:2.0
PRODID:-//wp-events-plugin.com//7.2.3.1//EN
BEGIN:VEVENT
UID:0-477@iwmi.org
DTSTART;TZID=Asia/Riyadh;VALUE=DATE:20241202
DTEND;TZID=Asia/Riyadh;VALUE=DATE:20241214
DTSTAMP:20241210T085701Z
URL:https://www.iwmi.org/events/unccd-cop16/
SUMMARY:IWMI at COP16 UNCCD
DESCRIPTION:UNCCD COP 16 in Riyadh will unite leaders from governments\, th
 e private sector\, civil society and global stakeholders to accelerate pro
 gress in sustainable land management. 
ATTACH;FMTTYPE=image/jpeg:https://mlpyskbirng6.i.optimole.com/cb:Jg6D.e890
 /w:950/h:564/q:mauto/g:sm/f:best/https://www.iwmi.org/wp-content/uploads/2
 024/01/COP16.png
LOCATION:UNCCD COP16\, Hittin\, Riyadh\, Riyadh\, Saudi Arabia
GEO:24.762;46.603833
X-APPLE-STRUCTURED-LOCATION;VALUE=URI;X-ADDRESS=Hittin\, Riyadh\, Riyadh\, 
 Saudi Arabia;X-APPLE-RADIUS=100;X-TITLE=UNCCD COP16:geo:24.762,46.603833
END:VEVENT
BEGIN:VTIMEZONE
TZID:Asia/Riyadh
X-LIC-LOCATION:Asia/Riyadh
BEGIN:STANDARD
DTSTART:20231203T000000
TZOFFSETFROM:+0300
TZOFFSETTO:+0300
TZNAME:+03
END:STANDARD
END:VTIMEZONE
END:VCALENDAR