BEGIN:VCALENDAR
VERSION:2.0
PRODID:-//wp-events-plugin.com//7.2.3.1//EN
BEGIN:VEVENT
UID:0-180@iwmi.org
DTSTART:20190317T183000Z
DTEND:20190322T183000Z
DTSTAMP:20190311T081249Z
URL:https://www.iwmi.org/events/uganda-water-and-environment-week-uwewk-20
 19/
SUMMARY:Uganda Water and Environment Week (UWEWK 2019)
DESCRIPTION:The Ministry of Water and Environment in collaboration with key
  Partners willhold the secondUganda Water and Environment Week (UWEWK) 201
 9 18thto 22ndMarch 2019. Organised under the theme\; “Water and Environm
 ent a strategic driver in attainment of Sustainable Development Goals 2030
 \,”the event will be guided by five sub themes.\n\n&nbsp\;\n\nMore infor
 mation is available at: www.mwe.go.ug/events/uganda-water-and-environment-
 week-uwewk-2019
LOCATION:Water Resource Institute\, Entebbe\, Uganda\, Water Resource Insti
 tute\, Entebbe\, Uganda\, Entebbe\, Uganda
GEO:0.07569189999999999;32.45746489999999
X-APPLE-STRUCTURED-LOCATION;VALUE=URI;X-ADDRESS=Water Resource Institute\, 
 Entebbe\, Uganda\, Entebbe\, Uganda;X-APPLE-RADIUS=100;X-TITLE=Water Resou
 rce Institute\, Entebbe\, Uganda:geo:0.07569189999999999,32.45746489999999
END:VEVENT
END:VCALENDAR