BEGIN:VCALENDAR
VERSION:2.0
PRODID:-//wp-events-plugin.com//7.2.3.1//EN
BEGIN:VEVENT
UID:0-359@iwmi.org
DTSTART;VALUE=DATE:20220522
DTEND;VALUE=DATE:20220524
DTSTAMP:20220517T101854Z
URL:https://www.iwmi.org/events/the-first-water-summit-and-establishment-o
 f-the-zuckerberg-water-prize/
SUMMARY:The first Water-Summit and establishment of the Zuckerberg Water Pr
 ize
DESCRIPTION:The biannual international WATER-SUMMIT will assemble leading s
 cholars from around the world in the broad field of water science and tech
 nology.
LOCATION:Sde Boqer Campus\, BGU\, Israel\, Sde Boqer Campus\, BGU\, Israel\
 , BGU\, Israel
X-APPLE-STRUCTURED-LOCATION;VALUE=URI;X-ADDRESS=Sde Boqer Campus\, BGU\, Is
 rael\, BGU\, Israel;X-APPLE-RADIUS=100;X-TITLE=Sde Boqer Campus\, BGU\, Is
 rael:geo:0,0
END:VEVENT
END:VCALENDAR