BEGIN:VCALENDAR
VERSION:2.0
PRODID:-//wp-events-plugin.com//7.2.3.1//EN
BEGIN:VEVENT
UID:1-79@iwmi.org
DTSTART;VALUE=DATE:20150720
DTEND;VALUE=DATE:20150725
DTSTAMP:20150608T055143Z
URL:https://www.iwmi.org/events/the-esri-user-conference-2015/
SUMMARY:The ESRI User Conference  2015
DESCRIPTION:The Esri UC is your event to meet Esri’s software developers\
 , technical and training staff\, and customer service support teams. Learn
  tips and tricks from other Esri users who are located all over the world\
 , in more industries than you can imagine. View maps. Play with apps\, lis
 ten to presentations\, visit solution providers\, network with your peers 
 and meet new friends. There is something for everyone.\n\n&nbsp\;\n\nFor m
 ore information..
LOCATION:San Diego Convention Center\, CA 92101\, United States\, San Diego
  Convention Center\, CA 92101\, United States\, CA 92101\, United States
GEO:32.7051845;-117.16140730000001
X-APPLE-STRUCTURED-LOCATION;VALUE=URI;X-ADDRESS=San Diego Convention Center
 \, CA 92101\, United States\, CA 92101\, United States;X-APPLE-RADIUS=100;
 X-TITLE=San Diego Convention Center\, CA 92101\, United States:geo:32.7051
 845,-117.16140730000001
END:VEVENT
END:VCALENDAR