BEGIN:VCALENDAR
VERSION:2.0
PRODID:-//wp-events-plugin.com//7.2.3.1//EN
BEGIN:VEVENT
UID:0-461@iwmi.org
DTSTART;TZID=Asia/Colombo:20231214T100000
DTEND;TZID=Asia/Colombo:20231214T140000
DTSTAMP:20231212T084834Z
URL:https://www.iwmi.org/events/state-level-consultation-workshop-on-polic
 y-coherence-in-the-food-land-and-water-systems-case-study-of-odisha/
SUMMARY:State-level consultation workshop on policy coherence in the food\,
  land\, and water systems:  Case study of Odisha
DESCRIPTION:Organized by IWMI and the Council on Energy\, Environment and W
 ater\, the consultation aims to address the complex challenges relating to
  food\, land and water systems. 
ATTACH;FMTTYPE=image/jpeg:https://mlpyskbirng6.i.optimole.com/cb:Jg6D.e890
 /w:940/h:529/q:mauto/g:sm/f:best/https://www.iwmi.org/wp-content/uploads/2
 023/12/Thumbnail-e1702369501672.png
LOCATION:Lemon Tree Premier Bhubaneswar\, Plot No-B/1334\, Maitree Vihar Ro
 ad\, Chandrasekhar\, Bhubaneswar\, Odisha - 751023\, Bhubaneswar\, India
GEO:20.311408;85.816734
X-APPLE-STRUCTURED-LOCATION;VALUE=URI;X-ADDRESS=Plot No-B/1334\, Maitree Vi
 har Road\, Chandrasekhar\, Bhubaneswar\, Odisha - 751023\, Bhubaneswar\, I
 ndia;X-APPLE-RADIUS=100;X-TITLE=Lemon Tree Premier Bhubaneswar:geo:20.3114
 08,85.816734
END:VEVENT
BEGIN:VTIMEZONE
TZID:Asia/Colombo
X-LIC-LOCATION:Asia/Colombo
BEGIN:STANDARD
DTSTART:20221214T100000
TZOFFSETFROM:+0530
TZOFFSETTO:+0530
TZNAME:+0530
END:STANDARD
END:VTIMEZONE
END:VCALENDAR