BEGIN:VCALENDAR
VERSION:2.0
PRODID:-//wp-events-plugin.com//7.2.3.1//EN
BEGIN:VEVENT
UID:0-297@iwmi.org
DTSTART;VALUE=DATE:20210621
DTEND;VALUE=DATE:20210703
DTSTAMP:20210610T045142Z
URL:https://www.iwmi.org/events/singapore-international-water-week/
SUMMARY:Singapore International Water Week
DESCRIPTION:With an emphasis on innovation\, solutions and technologies tha
 t are relevant to the wider Asian region\, SIWW 2021 will focus on key the
 matic areas including climate resilience\, resource circularity and digita
 l water.
LOCATION:\, \, 
X-APPLE-STRUCTURED-LOCATION;VALUE=URI;X-ADDRESS=\, ;X-APPLE-RADIUS=100;X-TI
 TLE=:geo:0,0
END:VEVENT
END:VCALENDAR