BEGIN:VCALENDAR
VERSION:2.0
PRODID:-//wp-events-plugin.com//7.2.3.1//EN
BEGIN:VEVENT
UID:0-494@iwmi.org
DTSTART:20240222T150000Z
DTEND:20240222T161500Z
DTSTAMP:20240226T082327Z
URL:https://www.iwmi.org/events/report-launch-accelerating-adaptation/
SUMMARY:Report Launch: Accelerating Adaptation: Exploring the Promise and L
 imitations of Nature based Solutions for Droughts and Floods
DESCRIPTION:The Nature Conservancy will launch its report on Accelerating A
 daptation: Exploring the Promise and Limitations of Nature based Solutions
  for Droughts and Floods.
ATTACH;FMTTYPE=image/jpeg:https://mlpyskbirng6.i.optimole.com/cb:Jg6D.e890
 /w:878/h:546/q:mauto/g:sm/f:best/https://www.iwmi.org/wp-content/uploads/2
 024/02/Screenshot-2024-02-26-134649.png
END:VEVENT
END:VCALENDAR