BEGIN:VCALENDAR
VERSION:2.0
PRODID:-//wp-events-plugin.com//7.2.3.1//EN
BEGIN:VEVENT
UID:0-853@iwmi.org
DTSTART:20260422T040000Z
DTEND:20260424T120000Z
DTSTAMP:20260421T083108Z
URL:https://www.iwmi.org/events/regional-ecological-summit-2026/
SUMMARY:IWMI at the Regional Ecological Summit
DESCRIPTION:The Regional Ecological Summit 2026 aims to bring Central Asian
  countries together in partnership with the United Nations to develop shar
 ed solutions to climate change.
ATTACH;FMTTYPE=image/jpeg:https://mlpyskbirng6.i.optimole.com/cb:Jg6D.e890
 /w:1600/h:800/q:mauto/g:sm/f:best/https://www.iwmi.org/wp-content/uploads/
 2026/04/Regional-Ecological-Summit-2026.png
LOCATION:Astana Congress Centre EXPO\, Sauran St 44\, Astana\, 020000\, Kaz
 akhstan
GEO:51.092308;71.411406
X-APPLE-STRUCTURED-LOCATION;VALUE=URI;X-ADDRESS=Sauran St 44\, Astana\, 020
 000\, Kazakhstan;X-APPLE-RADIUS=100;X-TITLE=Astana Congress Centre EXPO:ge
 o:51.092308,71.411406
END:VEVENT
END:VCALENDAR