BEGIN:VCALENDAR
VERSION:2.0
PRODID:-//wp-events-plugin.com//7.2.3.1//EN
BEGIN:VEVENT
UID:0-308@iwmi.org
DTSTART:20210503T190000Z
DTEND:20210503T213000Z
DTSTAMP:20210503T145416Z
URL:https://www.iwmi.org/events/petersberg-dialogue-2021-satellite-event-o
 n-water/
SUMMARY:Petersberg Dialogue 2021 satellite event on water
DESCRIPTION:Adaptation Action Coalition Water Launch: What can we achieve t
 ogether through the AAC? Water resilience for effective climate adaptation
 .\n\nClick here for more information.
LOCATION:\, \, 
X-APPLE-STRUCTURED-LOCATION;VALUE=URI;X-ADDRESS=\, ;X-APPLE-RADIUS=100;X-TI
 TLE=:geo:0,0
END:VEVENT
END:VCALENDAR