BEGIN:VCALENDAR
VERSION:2.0
PRODID:-//wp-events-plugin.com//7.2.3.1//EN
BEGIN:VEVENT
UID:0-407@iwmi.org
DTSTART:20230418T130000Z
DTEND:20230418T140000Z
DTSTAMP:20230412T070951Z
URL:https://www.iwmi.org/events/nexus-tools-to-support-solarization-of-agr
 iculture-in-asia-and-africa/
SUMMARY:Nexus tools to support solarization of agriculture in Asia and Afri
 ca
DESCRIPTION:This NEXUS Gains Talk will introduce a solar irrigation pump si
 zing tool developed for and adopted in India\, with potential for expansio
 n to other countries in South Asia\, as well as tools developed for Sub-Sa
 haran Africa.
ATTACH;FMTTYPE=image/jpeg:https://mlpyskbirng6.i.optimole.com/cb:Jg6D.e890
 /w:1920/h:1082/q:mauto/g:sm/f:best/https://www.iwmi.org/wp-content/uploads
 /2023/04/NEXUS_gains_talk_10.jpg
LOCATION:Colombo\, Colombo\, Sri lanka\, Colombo\, Sri Lanka
X-APPLE-STRUCTURED-LOCATION;VALUE=URI;X-ADDRESS=Colombo\, Sri lanka\, Colom
 bo\, Sri Lanka;X-APPLE-RADIUS=100;X-TITLE=Colombo:geo:0,0
END:VEVENT
END:VCALENDAR