BEGIN:VCALENDAR
VERSION:2.0
PRODID:-//wp-events-plugin.com//7.2.3.1//EN
BEGIN:VEVENT
UID:0-622@iwmi.org
DTSTART;TZID=Asia/Colombo:20241104T193000
DTEND;TZID=Asia/Colombo:20241104T203000
DTSTAMP:20241016T060517Z
URL:https://www.iwmi.org/events/nexus-gains-talk-27/
SUMMARY:NEXUS GAINS Talk 27
DESCRIPTION:How to design a transboundary multistakeholder platform: The In
 comati experience in Southern Africa.
ATTACH;FMTTYPE=image/jpeg:https://mlpyskbirng6.i.optimole.com/cb:Jg6D.e890
 /w:950/h:507/q:mauto/g:sm/f:best/https://www.iwmi.org/wp-content/uploads/2
 024/10/NEXUS-Gains-Talk-27.png
LOCATION:\, \, 
X-APPLE-STRUCTURED-LOCATION;VALUE=URI;X-ADDRESS=\, ;X-APPLE-RADIUS=100;X-TI
 TLE=:geo:0,0
END:VEVENT
BEGIN:VTIMEZONE
TZID:Asia/Colombo
X-LIC-LOCATION:Asia/Colombo
BEGIN:STANDARD
DTSTART:20231105T193000
TZOFFSETFROM:+0530
TZOFFSETTO:+0530
TZNAME:+0530
END:STANDARD
END:VTIMEZONE
END:VCALENDAR