BEGIN:VCALENDAR
VERSION:2.0
PRODID:-//wp-events-plugin.com//7.2.3.1//EN
BEGIN:VEVENT
UID:0-464@iwmi.org
DTSTART;TZID=Asia/Tashkent;VALUE=DATE:20240129
DTEND;TZID=Asia/Tashkent;VALUE=DATE:20240203
DTSTAMP:20240118T035749Z
URL:https://www.iwmi.org/events/nexus-gains-policy-dialogue-and-annual-pau
 se-and-reflect-workshop/
SUMMARY:NEXUS Gains Policy Dialogue and Annual Pause and Reflect Workshop
DESCRIPTION:Each year\, the NEXUS Gains Management Team and research leader
 s meet to review lessons learned from the previous year and apply these re
 flections to refine plans for the coming year.
ATTACH;FMTTYPE=image/jpeg:https://mlpyskbirng6.i.optimole.com/cb:Jg6D.e890
 /w:926/h:328/q:mauto/g:sm/f:best/https://www.iwmi.org/wp-content/uploads/2
 024/01/Screenshot-2024-01-05-110349.png
LOCATION:Tashkent\, Uzbekistan\, Tashkent\, Uzbekistan\, Tashkent\, Uzbekis
 tan
X-APPLE-STRUCTURED-LOCATION;VALUE=URI;X-ADDRESS=Tashkent\, Uzbekistan\, Tas
 hkent\, Uzbekistan;X-APPLE-RADIUS=100;X-TITLE=Tashkent\, Uzbekistan:geo:0,
 0
END:VEVENT
BEGIN:VTIMEZONE
TZID:Asia/Tashkent
X-LIC-LOCATION:Asia/Tashkent
BEGIN:STANDARD
DTSTART:20230129T000000
TZOFFSETFROM:+0500
TZOFFSETTO:+0500
TZNAME:+05
END:STANDARD
END:VTIMEZONE
END:VCALENDAR