BEGIN:VCALENDAR
VERSION:2.0
PRODID:-//wp-events-plugin.com//7.2.3.1//EN
BEGIN:VEVENT
UID:0-756@iwmi.org
DTSTART;TZID=Asia/Dubai:20251009T090000
DTEND;TZID=Asia/Dubai:20251013T173000
DTSTAMP:20250903T075522Z
URL:https://www.iwmi.org/events/iucn-world-conservation-congress/
SUMMARY:IUCN World Conservation Congress
DESCRIPTION:This is a once-every-four-years gathering of nature conservatio
 n experts\, leaders and decision-makers from around the world. 
ATTACH;FMTTYPE=image/jpeg:https://mlpyskbirng6.i.optimole.com/cb:Jg6D.e890
 /w:950/h:466/q:mauto/g:sm/f:best/https://www.iwmi.org/wp-content/uploads/2
 025/09/IUCN-World-Conservation-Congress.png
LOCATION:Abu Dhabi National Exhibition Centre (ADNEC)\, Al Khaleej Al Arabi
  St.\, Al Rawdah - W59 01\, Abu Dhabi\, United Arab Emirates
GEO:24.413453;54.450258
X-APPLE-STRUCTURED-LOCATION;VALUE=URI;X-ADDRESS=Al Khaleej Al Arabi St.\, A
 l Rawdah - W59 01\, Abu Dhabi\, United Arab Emirates;X-APPLE-RADIUS=100;X-
 TITLE=Abu Dhabi National Exhibition Centre (ADNEC):geo:24.413453,54.450258
END:VEVENT
BEGIN:VTIMEZONE
TZID:Asia/Dubai
X-LIC-LOCATION:Asia/Dubai
BEGIN:STANDARD
DTSTART:20241009T090000
TZOFFSETFROM:+0400
TZOFFSETTO:+0400
TZNAME:+04
END:STANDARD
END:VTIMEZONE
END:VCALENDAR