BEGIN:VCALENDAR
VERSION:2.0
PRODID:-//wp-events-plugin.com//7.2.3.1//EN
BEGIN:VEVENT
UID:0-821@iwmi.org
DTSTART;TZID=Asia/Colombo:20260323T090000
DTEND;TZID=Asia/Colombo:20260325T170000
DTSTAMP:20260417T034902Z
URL:https://www.iwmi.org/events/international-water-association-internatio
 nal-water-safety-conference-and-exhibition-2026/
SUMMARY:International Water Association International Water Safety Conferen
 ce and Exhibition 2026
DESCRIPTION:The 2026 International Water Association International Water Sa
 fety Conference and Exhibition will aim to foster dialogue and collaborati
 on committed to delivering safe and sustainable drinking water.
ATTACH;FMTTYPE=image/jpeg:https://mlpyskbirng6.i.optimole.com/cb:Jg6D.e890
 /w:950/h:475/q:mauto/g:sm/f:best/https://www.iwmi.org/wp-content/uploads/2
 026/02/IWA-IWSCE2026.png
LOCATION:Center of Excellence for Water and Sanitation\, No. 10\, Egodahena
  Road\, Ratmalana\, Sri Lanka
GEO:6.810771;79.897462
X-APPLE-STRUCTURED-LOCATION;VALUE=URI;X-ADDRESS=No. 10\, Egodahena Road\, R
 atmalana\, Sri Lanka;X-APPLE-RADIUS=100;X-TITLE=Center of Excellence for W
 ater and Sanitation:geo:6.810771,79.897462
END:VEVENT
BEGIN:VTIMEZONE
TZID:Asia/Colombo
X-LIC-LOCATION:Asia/Colombo
BEGIN:STANDARD
DTSTART:20250323T090000
TZOFFSETFROM:+0530
TZOFFSETTO:+0530
TZNAME:+0530
END:STANDARD
END:VTIMEZONE
END:VCALENDAR