BEGIN:VCALENDAR
VERSION:2.0
PRODID:-//wp-events-plugin.com//7.2.3.1//EN
BEGIN:VEVENT
UID:0-838@iwmi.org
DTSTART;TZID=Africa/Tunis:20260325T090000
DTEND;TZID=Africa/Tunis:20260328T170000
DTSTAMP:20260417T035609Z
URL:https://www.iwmi.org/events/international-desertifactions-2026-summit/
SUMMARY:International Desertif'actions 2026 Summit
DESCRIPTION:The International Desertif'actions 2026 Summit will bring toget
 her 350 international representatives of civil society\, researchers\, NGO
 s\, private and public institutions and local authorities.
ATTACH;FMTTYPE=image/jpeg:https://mlpyskbirng6.i.optimole.com/cb:zhvU.e7db
 /w:950/h:475/q:mauto/g:sm/f:best/https://www.iwmi.org/wp-content/uploads/2
 026/03/desertifactions.png
LOCATION:Higher Institute of Technological Studies of Djerba\, Midoun\, Dje
 rba Midun 4116\, Djerba\, Tunisia
GEO:33.807145;10.991182
X-APPLE-STRUCTURED-LOCATION;VALUE=URI;X-ADDRESS=Midoun\, Djerba Midun 4116\
 , Djerba\, Tunisia;X-APPLE-RADIUS=100;X-TITLE=Higher Institute of Technolo
 gical Studies of Djerba:geo:33.807145,10.991182
END:VEVENT
BEGIN:VTIMEZONE
TZID:Africa/Tunis
X-LIC-LOCATION:Africa/Tunis
BEGIN:STANDARD
DTSTART:20250325T090000
TZOFFSETFROM:+0100
TZOFFSETTO:+0100
TZNAME:CET
END:STANDARD
END:VTIMEZONE
END:VCALENDAR