BEGIN:VCALENDAR
VERSION:2.0
PRODID:-//wp-events-plugin.com//7.2.3.1//EN
BEGIN:VEVENT
UID:0-598@iwmi.org
DTSTART;TZID=Asia/Colombo;VALUE=DATE:20240921
DTEND;TZID=Asia/Colombo;VALUE=DATE:20240922
DTSTAMP:20240808T075749Z
URL:https://www.iwmi.org/events/international-day-of-peace-2024/
SUMMARY:International Day of Peace 2024
DESCRIPTION:This year marks the 25th anniversary of the United Nations Gene
 ral Assembly’s adoption of the Declaration and Programme of Action on a
  Culture of Peace.
ATTACH;FMTTYPE=image/jpeg:https://mlpyskbirng6.i.optimole.com/cb:Jg6D.e890
 /w:950/h:509/q:mauto/g:sm/f:best/https://www.iwmi.org/wp-content/uploads/2
 024/08/International-Day-of-Peace-2024-e1723103821422.png
END:VEVENT
BEGIN:VTIMEZONE
TZID:Asia/Colombo
X-LIC-LOCATION:Asia/Colombo
BEGIN:STANDARD
DTSTART:20230922T000000
TZOFFSETFROM:+0530
TZOFFSETTO:+0530
TZNAME:+0530
END:STANDARD
END:VTIMEZONE
END:VCALENDAR