BEGIN:VCALENDAR
VERSION:2.0
PRODID:-//wp-events-plugin.com//7.2.3.1//EN
BEGIN:VEVENT
UID:1-97@iwmi.org
DTSTART;VALUE=DATE:20151021
DTEND;VALUE=DATE:20151024
DTSTAMP:20151022T043359Z
URL:https://www.iwmi.org/events/greater-mekong-forum-on-water-food-and-ene
 rgy/
SUMMARY:Greater Mekong Forum on Water\, Food\, and Energy
DESCRIPTION:The 2015 Greater Mekong Forum on Water\, Food and Energy will b
 e held in Phnom Penh\, Cambodia\, from October 21-23\, 2015. The event is 
 co-hosted by the CGIAR Research Program on Water\, Land and Ecosystems\, t
 he Ministry of Environment of the Royal Cambodian Government\, and the Int
 ernational Water Management Institute.\n\nThe Forum is the largest event i
 n the Mekong Region to address the confluence of water\, food and energy. 
 It brings together regional water\, food and energy professionals and thin
 kers to explore new and emerging ideas in water\, its development and its 
 exploitation.\n\nMore information at http://wle-mekong.cgiar.org/2015forum
 /\n\n&nbsp\;\n\n&nbsp\;
LOCATION:Phnom Penh\, Cambodia\, Cambodia\, Phnom Penh\, Cambodia
GEO:11.5448729;104.89216680000004
X-APPLE-STRUCTURED-LOCATION;VALUE=URI;X-ADDRESS=Cambodia\, Phnom Penh\, Cam
 bodia;X-APPLE-RADIUS=100;X-TITLE=Phnom Penh\, Cambodia:geo:11.5448729,104.
 89216680000004
END:VEVENT
END:VCALENDAR