BEGIN:VCALENDAR
VERSION:2.0
PRODID:-//wp-events-plugin.com//7.2.3.1//EN
BEGIN:VEVENT
UID:0-381@iwmi.org
DTSTART:20220627T190000Z
DTEND:20220627T190000Z
DTSTAMP:20220628T183640Z
URL:https://www.iwmi.org/events/global-food-crises-and-one-cgiars-response
 /
SUMMARY:Global food crises and one cgiar’s response
DESCRIPTION:Some countries are particularly vulnerable\, including those ex
 periencing uneven economic recovery due to the COVID-19 pandemic\, conflic
 t-affected and fragile economies\, and low-income countries with high leve
 ls of food import dependence.
LOCATION:The St. Regis Hotel\,  Nile Corniche\, Cairo\, Egypt\, The St. Reg
 is Hotel\,  Nile Corniche\, Cairo\, Egypt\, Cairo\, Egypt
X-APPLE-STRUCTURED-LOCATION;VALUE=URI;X-ADDRESS=The St. Regis Hotel\,  Nile
  Corniche\, Cairo\, Egypt\, Cairo\, Egypt;X-APPLE-RADIUS=100;X-TITLE=The S
 t. Regis Hotel\,  Nile Corniche\, Cairo\, Egypt:geo:0,0
END:VEVENT
END:VCALENDAR