BEGIN:VCALENDAR
VERSION:2.0
PRODID:-//wp-events-plugin.com//7.2.3.1//EN
BEGIN:VEVENT
UID:0-785@iwmi.org
DTSTART;TZID=Africa/Accra:20251205T000000
DTEND;TZID=Africa/Accra:20251205T000000
DTSTAMP:20251118T033807Z
URL:https://www.iwmi.org/events/farmers-day-2025/
SUMMARY:Farmers' Day 2025
DESCRIPTION:Farmers’ Day is Ghana’s flagship national celebration recog
 nizing farmers and fisherfolk for their vital role in food security and ec
 onomic growth.
ATTACH;FMTTYPE=image/jpeg:https://mlpyskbirng6.i.optimole.com/cb:Jg6D.e890
 /w:950/h:460/q:mauto/g:sm/f:best/https://www.iwmi.org/wp-content/uploads/2
 025/11/Farmers-day-2025.png
LOCATION:Ghana\, Ghana\, Ghana\, Ghana
GEO:7.946527;-1.023194
X-APPLE-STRUCTURED-LOCATION;VALUE=URI;X-ADDRESS=Ghana\, Ghana\, Ghana;X-APP
 LE-RADIUS=100;X-TITLE=Ghana:geo:7.946527,-1.023194
END:VEVENT
BEGIN:VTIMEZONE
TZID:Africa/Accra
X-LIC-LOCATION:Africa/Accra
BEGIN:STANDARD
DTSTART:20241205T000000
TZOFFSETFROM:+0000
TZOFFSETTO:+0000
TZNAME:GMT
END:STANDARD
END:VTIMEZONE
END:VCALENDAR