BEGIN:VCALENDAR
VERSION:2.0
PRODID:-//wp-events-plugin.com//7.2.3.1//EN
BEGIN:VEVENT
UID:0-726@iwmi.org
DTSTART;TZID=Asia/Colombo:20250715T173000
DTEND;TZID=Asia/Colombo:20250715T183000
DTSTAMP:20260423T041658Z
URL:https://www.iwmi.org/events/eyes-on-the-storm-7-from-the-ground-up-com
 munity-led-early-warning-systems-for-local-resilience/
SUMMARY:Eyes On The Storm 7. From the ground up: Community-led early warnin
 g systems for local resilience
DESCRIPTION:This webinar explores how locally driven early warning systems 
 are transforming disaster preparedness and response in vulnerable communit
 ies.
ATTACH;FMTTYPE=image/jpeg:https://mlpyskbirng6.i.optimole.com/cb:Jg6D.e890
 /w:805/h:536/q:mauto/g:sm/f:best/https://www.iwmi.org/wp-content/uploads/2
 025/06/7.png
END:VEVENT
BEGIN:VTIMEZONE
TZID:Asia/Colombo
X-LIC-LOCATION:Asia/Colombo
BEGIN:STANDARD
DTSTART:20240715T173000
TZOFFSETFROM:+0530
TZOFFSETTO:+0530
TZNAME:+0530
END:STANDARD
END:VTIMEZONE
END:VCALENDAR