BEGIN:VCALENDAR
VERSION:2.0
PRODID:-//wp-events-plugin.com//7.2.3.1//EN
BEGIN:VEVENT
UID:0-725@iwmi.org
DTSTART;TZID=Asia/Colombo:20250626T173000
DTEND;TZID=Asia/Colombo:20250626T183000
DTSTAMP:20260422T074140Z
URL:https://www.iwmi.org/events/eyes-on-the-storm-6-mountains-on-the-move-
 strengthening-early-warning-for-landslides-and-glacial-lake-outburst-flood
 -risks/
SUMMARY:Eyes On The Storm 6. Mountains to coasts: Strengthening early warni
 ng for landslides\, glacial lake outburst flood and tsunami risks
DESCRIPTION:As climate change destabilizes high mountain landscapes\, lands
 lides and Glacial Lake Outburst Flood events are becoming more frequent an
 d deadly. \n\n
ATTACH;FMTTYPE=image/jpeg:https://mlpyskbirng6.i.optimole.com/cb:Jg6D.e890
 /w:805/h:536/q:mauto/g:sm/f:best/https://www.iwmi.org/wp-content/uploads/2
 025/06/CommsPlan-Advancing-Early-Warning-Webinar-4-1.png
END:VEVENT
BEGIN:VTIMEZONE
TZID:Asia/Colombo
X-LIC-LOCATION:Asia/Colombo
BEGIN:STANDARD
DTSTART:20240626T173000
TZOFFSETFROM:+0530
TZOFFSETTO:+0530
TZNAME:+0530
END:STANDARD
END:VTIMEZONE
END:VCALENDAR