BEGIN:VCALENDAR
VERSION:2.0
PRODID:-//wp-events-plugin.com//7.2.3.1//EN
BEGIN:VEVENT
UID:0-724@iwmi.org
DTSTART;TZID=Asia/Colombo:20250612T173000
DTEND;TZID=Asia/Colombo:20250612T183000
DTSTAMP:20250617T030540Z
URL:https://www.iwmi.org/events/eyes-on-the-storm-5-when-the-rains-fail-ca
 talyzing-drought-action-for-proactive-drought-resilience/
SUMMARY:Eyes On The Storm - 5. When the Rains Fail: Catalyzing Drought Acti
 on for Proactive Drought Resilience
DESCRIPTION:\nJoin us to unpack how early warning systems can trigger early
  action and finance to address drought risks before crises unfold. From se
 asonal forecasts to shock-responsive safety nets\, this session showcases 
 tools and partnerships that are shifting the drought paradigm from reactiv
 e to proactive.&nbsp\;\n\n\n\nMissed it? Find the recording here.\n\n\n\n\
 n\n\n\n\n
ATTACH;FMTTYPE=image/jpeg:https://mlpyskbirng6.i.optimole.com/cb:Jg6D.e890
 /w:805/h:536/q:mauto/g:sm/f:best/https://www.iwmi.org/wp-content/uploads/2
 025/06/Eyes-on-the-storm-5.png
LOCATION:https://us02web.zoom.us/webinar/register/WN_2aThkD3sSZKD5xSxvaml4Q
 #/registration
END:VEVENT
BEGIN:VTIMEZONE
TZID:Asia/Colombo
X-LIC-LOCATION:Asia/Colombo
BEGIN:STANDARD
DTSTART:20240612T173000
TZOFFSETFROM:+0530
TZOFFSETTO:+0530
TZNAME:+0530
END:STANDARD
END:VTIMEZONE
END:VCALENDAR