BEGIN:VCALENDAR
VERSION:2.0
PRODID:-//wp-events-plugin.com//7.2.3.1//EN
BEGIN:VEVENT
UID:0-738@iwmi.org
DTSTART;TZID=Asia/Colombo:20251106T183000
DTEND;TZID=Asia/Colombo:20251106T193000
DTSTAMP:20251031T073819Z
URL:https://www.iwmi.org/events/eyes-on-the-storm-15-investing-in-prepared
 ness-public-private-partnerships-for-scalable-early-warning-systems/
SUMMARY:Eyes On The Storm 15. Investing in preparedness: Public private par
 tnerships for scalable early warning systems
DESCRIPTION:This webinar explores how strategic investments and innovative 
 partnerships between governments\, development partners and the private se
 ctor are transforming early warning systems.
ATTACH;FMTTYPE=image/jpeg:https://mlpyskbirng6.i.optimole.com/cb:Jg6D.e890
 /w:805/h:536/q:mauto/g:sm/f:best/https://www.iwmi.org/wp-content/uploads/2
 025/06/Eyes-on-the-storm-15.png
LOCATION:https://us02web.zoom.us/webinar/register/WN_S3k4_LmoR7-VPY3NqqiZzA
END:VEVENT
BEGIN:VTIMEZONE
TZID:Asia/Colombo
X-LIC-LOCATION:Asia/Colombo
BEGIN:STANDARD
DTSTART:20241106T183000
TZOFFSETFROM:+0530
TZOFFSETTO:+0530
TZNAME:+0530
END:STANDARD
END:VTIMEZONE
END:VCALENDAR