BEGIN:VCALENDAR
VERSION:2.0
PRODID:-//wp-events-plugin.com//7.2.3.1//EN
BEGIN:VEVENT
UID:0-261@iwmi.org
DTSTART;TZID=Asia/Manila:20201118T160000
DTEND;TZID=Asia/Manila:20201118T170000
DTSTAMP:20201111T121422Z
URL:https://www.iwmi.org/events/expanding-support-to-water-accounting-in-r
 iver-basins-and-water-productivity-measurement-in-irrigation-projects-part
 -2/
SUMMARY:Expanding Support to Water Accounting in River Basins and Water Pro
 ductivity Measurement in Irrigation Projects: Part - 2
DESCRIPTION:In addition to water accounting\, ADB Water\, IHE Delft\, and I
 WMI have been conducting water productivity studies\, combining fi eld and
  remote sensing data\, to provide detailed information on how productive i
 rrigated agricultural lands are compared to the amount of water consumed.
LOCATION:\, \, 
X-APPLE-STRUCTURED-LOCATION;VALUE=URI;X-ADDRESS=\, ;X-APPLE-RADIUS=100;X-TI
 TLE=:geo:0,0
END:VEVENT
BEGIN:VTIMEZONE
TZID:Asia/Manila
X-LIC-LOCATION:Asia/Manila
BEGIN:STANDARD
DTSTART:20191119T160000
TZOFFSETFROM:+0800
TZOFFSETTO:+0800
TZNAME:PST
END:STANDARD
END:VTIMEZONE
END:VCALENDAR