BEGIN:VCALENDAR
VERSION:2.0
PRODID:-//wp-events-plugin.com//7.2.3.1//EN
BEGIN:VEVENT
UID:0-828@iwmi.org
DTSTART;TZID=Europe/Vienna:20260503T090000
DTEND;TZID=Europe/Vienna:20260508T170000
DTSTAMP:20260417T040220Z
URL:https://www.iwmi.org/events/european-geoscience-union-egu-general-asse
 mbly/
SUMMARY:European Geoscience Union (EGU) General Assembly
DESCRIPTION:The European Geoscience Union (EGU) General Assembly 2026 bring
 s together geoscientists from all over the world to one meeting covering a
 ll disciplines of the Earth\, planetary and space sciences. 
ATTACH;FMTTYPE=image/jpeg:https://mlpyskbirng6.i.optimole.com/cb:Jg6D.e890
 /w:950/h:475/q:mauto/g:sm/f:best/https://www.iwmi.org/wp-content/uploads/2
 026/03/EGU26.png
LOCATION:Austria Center Vienna\, Bruno Kreisky Platz\, Vienna\, Austria
GEO:48.235488;16.41298
X-APPLE-STRUCTURED-LOCATION;VALUE=URI;X-ADDRESS=Bruno Kreisky Platz\, Vienn
 a\, Austria;X-APPLE-RADIUS=100;X-TITLE=Austria Center Vienna:geo:48.235488
 ,16.41298
END:VEVENT
BEGIN:VTIMEZONE
TZID:Europe/Vienna
X-LIC-LOCATION:Europe/Vienna
BEGIN:DAYLIGHT
DTSTART:20260329T030000
TZOFFSETFROM:+0100
TZOFFSETTO:+0200
TZNAME:CEST
END:DAYLIGHT
END:VTIMEZONE
END:VCALENDAR