BEGIN:VCALENDAR
VERSION:2.0
PRODID:-//wp-events-plugin.com//7.2.3.1//EN
BEGIN:VEVENT
UID:0-179@iwmi.org
DTSTART:20191020T183000Z
DTEND:20191024T183000Z
DTSTAMP:20190214T080355Z
URL:https://www.iwmi.org/events/esp-10th-world-conference-10-years-advanci
 ng-ecosystem-services-science-policy-and-practice-for-a-sustainable-future
 /
SUMMARY:ESP 10th World Conference: 10 years advancing ecosystem services sc
 ience\, policy and practice for a sustainable future
DESCRIPTION:The 10th ESP World conference will take place from 21-25 Octobe
 r 2019 in Hannover\, Germany – close to the place where the very first E
 SP conference was held in 2008. Would you like to be a part of ESP's anniv
 ersary event? You can host a session\, rent an exhibition booth\, propose 
 a workshop\, and of course\, present your work during one of the sessions.
 \n\n&nbsp\;\n\nMore information on the conference website: www.espconferen
 ce.org/esp10
LOCATION:Hannover\, Germany\, Hannover\, Germany\, Hannover\, Germany
GEO:52.3758916;9.732010400000036
X-APPLE-STRUCTURED-LOCATION;VALUE=URI;X-ADDRESS=Hannover\, Germany\, Hannov
 er\, Germany;X-APPLE-RADIUS=100;X-TITLE=Hannover\, Germany:geo:52.3758916,
 9.732010400000036
END:VEVENT
END:VCALENDAR