BEGIN:VCALENDAR
VERSION:2.0
PRODID:-//wp-events-plugin.com//7.2.3.1//EN
BEGIN:VEVENT
UID:0-249@iwmi.org
DTSTART:20201021T100000Z
DTEND:20201022T100000Z
DTSTAMP:20201021T074432Z
URL:https://www.iwmi.org/events/edialogue-what-future-for-small-scale-farm
 ing/
SUMMARY:eDialogue: What future for small-scale farming?
DESCRIPTION:Small-scale farmers are critical to food systems in much of the
  world. Vast numbers of rural households rely\, at least in part\, on agri
 culture for their livelihood.
LOCATION:\, \, 
X-APPLE-STRUCTURED-LOCATION;VALUE=URI;X-ADDRESS=\, ;X-APPLE-RADIUS=100;X-TI
 TLE=:geo:0,0
END:VEVENT
END:VCALENDAR