BEGIN:VCALENDAR
VERSION:2.0
PRODID:-//wp-events-plugin.com//7.2.3.1//EN
BEGIN:VEVENT
UID:0-656@iwmi.org
DTSTART;TZID=Asia/Colombo:20250322T203000
DTEND;TZID=Asia/Colombo:20250322T213000
DTSTAMP:20250320T045250Z
URL:https://www.iwmi.org/events/earth-hour-2025/
SUMMARY:Earth Hour 2025
DESCRIPTION:Earth Hour is a time that anyone can give an hour to care for t
 he planet. Organized by World Wildlife Fund\, the hour symbolizes people's
  commitment to the planet and raises awareness about environmental issues.
  
ATTACH;FMTTYPE=image/jpeg:https://mlpyskbirng6.i.optimole.com/co-ZpyQ-0H_t
 vz4u/dam:1/w:950/h:390/q:auto/id:f6a01e4558dd13f8c7a90c894aa8ebfa/directUp
 load/60-Earth-Hour.png
END:VEVENT
BEGIN:VTIMEZONE
TZID:Asia/Colombo
X-LIC-LOCATION:Asia/Colombo
BEGIN:STANDARD
DTSTART:20240322T203000
TZOFFSETFROM:+0530
TZOFFSETTO:+0530
TZNAME:+0530
END:STANDARD
END:VTIMEZONE
END:VCALENDAR