BEGIN:VCALENDAR
VERSION:2.0
PRODID:-//wp-events-plugin.com//7.2.3.1//EN
BEGIN:VEVENT
UID:0-188@iwmi.org
DTSTART:20190811T183000Z
DTEND:20190812T183000Z
DTSTAMP:20190701T055854Z
URL:https://www.iwmi.org/events/crawford-fund-2019-conference/
SUMMARY:Crawford Fund 2019 conference
DESCRIPTION:The Crawford Fund annual conference is made possible through th
 e generous support of our conference sponsors.\n\nAfter almost 30 years\, 
 our conference provides a special opportunity to maintain existing links a
 nd nurture new ones with the national and international community involved
  in food and nutrition security policy and research. It is also a high pro
 file opportunity to demonstrate involvement in\, and ongoing commitment an
 d support to food security related issues of interest and benefit to devel
 oping countries and to Australian rural industries.\n\n&nbsp\;\n\nMore inf
 ormation is available at: www.crawfordfund.org
LOCATION:Canberra\, Australia\, Canberra\, Australia\, Canberra\, Australia
GEO:-35.2809368;149.13000920000002
X-APPLE-STRUCTURED-LOCATION;VALUE=URI;X-ADDRESS=Canberra\, Australia\, Canb
 erra\, Australia;X-APPLE-RADIUS=100;X-TITLE=Canberra\, Australia:geo:-35.2
 809368,149.13000920000002
END:VEVENT
END:VCALENDAR