BEGIN:VCALENDAR
VERSION:2.0
PRODID:-//wp-events-plugin.com//7.2.3.1//EN
BEGIN:VEVENT
UID:0-826@iwmi.org
DTSTART;TZID=Europe/Istanbul:20261109T090000
DTEND;TZID=Europe/Istanbul:20261120T170000
DTSTAMP:20260417T043142Z
URL:https://www.iwmi.org/events/cop31-unfccc/
SUMMARY:COP31 UNFCCC
DESCRIPTION:COP 31 will build off of the last United Nations Climate Confer
 ence (COP30) towards a spirit of unity and shared purpose in the global re
 sponse to the threat of climate change.
ATTACH;FMTTYPE=image/jpeg:https://mlpyskbirng6.i.optimole.com/cb:Jg6D.e890
 /w:950/h:475/q:mauto/g:sm/f:best/https://www.iwmi.org/wp-content/uploads/2
 026/03/COP31.png
LOCATION:Antalya Expo Center\, Soğucaksu Mah.\, 25001\, Soğucaksu\, Antal
 ya\, 07112\, Turkey
GEO:36.940473;30.816436
X-APPLE-STRUCTURED-LOCATION;VALUE=URI;X-ADDRESS=Soğucaksu Mah.\, 25001\, S
 oğucaksu\, Antalya\, 07112\, Turkey;X-APPLE-RADIUS=100;X-TITLE=Antalya Ex
 po Center:geo:36.940473,30.816436
END:VEVENT
BEGIN:VTIMEZONE
TZID:Europe/Istanbul
X-LIC-LOCATION:Europe/Istanbul
BEGIN:STANDARD
DTSTART:20251109T090000
TZOFFSETFROM:+0300
TZOFFSETTO:+0300
TZNAME:+03
END:STANDARD
END:VTIMEZONE
END:VCALENDAR