BEGIN:VCALENDAR
VERSION:2.0
PRODID:-//wp-events-plugin.com//7.2.3.1//EN
BEGIN:VEVENT
UID:0-679@iwmi.org
DTSTART;TZID=America/Belem:20251110T090000
DTEND;TZID=America/Belem:20251121T170000
DTSTAMP:20251118T093949Z
URL:https://www.iwmi.org/events/cop30/
SUMMARY:IWMI at COP30 (UNFCCC)
DESCRIPTION:At COP30\, IWMI will focus on issues including how water-rel
 ated innovations can support Nationally Determined Contributions (NDC) and
  climate action at the regional and sub-national levels as well as adaptat
 ion and resilience under an inclusion lens.
ATTACH;FMTTYPE=image/jpeg:https://mlpyskbirng6.i.optimole.com/cb:Jg6D.e890
 /w:950/h:475/q:mauto/g:sm/f:best/https://www.iwmi.org/wp-content/uploads/2
 025/03/IWMI-at-COP30.png
END:VEVENT
BEGIN:VTIMEZONE
TZID:America/Belem
X-LIC-LOCATION:America/Belem
BEGIN:STANDARD
DTSTART:20241110T090000
TZOFFSETFROM:-0300
TZOFFSETTO:-0300
TZNAME:-03
END:STANDARD
END:VTIMEZONE
END:VCALENDAR