BEGIN:VCALENDAR
VERSION:2.0
PRODID:-//wp-events-plugin.com//7.2.3.1//EN
BEGIN:VEVENT
UID:0-799@iwmi.org
DTSTART;TZID=Asia/Bangkok:20260224T090000
DTEND;TZID=Asia/Bangkok:20260227T170000
DTSTAMP:20260416T093123Z
URL:https://www.iwmi.org/events/asia-pacific-forum-on-sustainable-developm
 ent-2026/
SUMMARY:Asia Pacific Forum on Sustainable Development 2026
DESCRIPTION:The Asia-Pacific Forum on Sustainable Development (APFSD) is 
 an annual\, inclusive intergovernmental forum to support follow-up and rev
 iew of progress on the 2030 Agenda for Sustainable Development at the regi
 onal level.
ATTACH;FMTTYPE=image/jpeg:https://mlpyskbirng6.i.optimole.com/cb:Jg6D.e890
 /w:950/h:475/q:mauto/g:sm/f:best/https://www.iwmi.org/wp-content/uploads/2
 025/12/APFSD13.png
LOCATION:United Nations Conference Center\, Rajadamnern Nok Avenue\, Bangko
 k\, 10200\, Thailand
GEO:13.761077;100.508513
X-APPLE-STRUCTURED-LOCATION;VALUE=URI;X-ADDRESS=Rajadamnern Nok Avenue\, Ba
 ngkok\, 10200\, Thailand;X-APPLE-RADIUS=100;X-TITLE=United Nations Confere
 nce Center:geo:13.761077,100.508513
END:VEVENT
BEGIN:VTIMEZONE
TZID:Asia/Bangkok
X-LIC-LOCATION:Asia/Bangkok
BEGIN:STANDARD
DTSTART:20250224T090000
TZOFFSETFROM:+0700
TZOFFSETTO:+0700
TZNAME:+07
END:STANDARD
END:VTIMEZONE
END:VCALENDAR