BEGIN:VCALENDAR
VERSION:2.0
PRODID:-//wp-events-plugin.com//7.2.3.1//EN
BEGIN:VEVENT
UID:1-80@iwmi.org
DTSTART;VALUE=DATE:20151102
DTEND;VALUE=DATE:20151107
DTSTAMP:20150608T062728Z
URL:https://www.iwmi.org/events/amsterdam-international-water-week-confere
 nce-2015/
SUMMARY:Amsterdam International Water Week Conference 2015
DESCRIPTION:The Amsterdam International Water Week (AIWW) is the platform f
 or new alliances and fresh ideas: connecting industry\, science\, business
 \, policy and technology. The event crosses borders between water and sani
 tation\, deltatechnology\, food\, agriculture\, finance and governance. Th
 us bringing together a unique mix of professionals conducive to the transi
 tion to a circular economy and resilient cities.\n\n&nbsp\;\n\nRead more..
LOCATION:International Water Association The Hague\, The Netherlands\, Inte
 rnational Water Association The Hague\, The Netherlands\, The Hague\, Neth
 erlands
GEO:52.0815801;4.321718000000033
X-APPLE-STRUCTURED-LOCATION;VALUE=URI;X-ADDRESS=International Water Associa
 tion The Hague\, The Netherlands\, The Hague\, Netherlands;X-APPLE-RADIUS=
 100;X-TITLE=International Water Association The Hague\, The Netherlands:ge
 o:52.0815801,4.321718000000033
END:VEVENT
END:VCALENDAR