BEGIN:VCALENDAR
VERSION:2.0
PRODID:-//wp-events-plugin.com//7.2.3.1//EN
BEGIN:VEVENT
UID:0-841@iwmi.org
DTSTART:20260504T080000Z
DTEND:20260508T160000Z
DTSTAMP:20260417T050547Z
URL:https://www.iwmi.org/events/67th-meeting-of-the-standing-committee-to-
 the-convention-of-wetlands/
SUMMARY:67th Meeting of the Standing Committee to the Convention of Wetland
 s
DESCRIPTION:The 67th Meeting of the Standing Committee to the Convention of
  Wetlands will convene the committee of members from Ramsar countries. 
ATTACH;FMTTYPE=image/jpeg:https://mlpyskbirng6.i.optimole.com/cb:Jg6D.e890
 /w:950/h:475/q:mauto/g:sm/f:best/https://www.iwmi.org/wp-content/uploads/2
 026/03/ramsarsc67.png
LOCATION:Ramsar Convention Secretariat\, Rue Mauverney 28\, Gland\, Switzer
 land
GEO:46.415543;6.278008
X-APPLE-STRUCTURED-LOCATION;VALUE=URI;X-ADDRESS=Rue Mauverney 28\, Gland\, 
 Switzerland;X-APPLE-RADIUS=100;X-TITLE=Ramsar Convention Secretariat:geo:4
 6.415543,6.278008
END:VEVENT
END:VCALENDAR