BEGIN:VCALENDAR
VERSION:2.0
PRODID:-//wp-events-plugin.com//7.2.3.1//EN
BEGIN:VEVENT
UID:0-856@iwmi.org
DTSTART;TZID=Europe/Berlin:20260608T090000
DTEND;TZID=Europe/Berlin:20260618T170000
DTSTAMP:20260423T093017Z
URL:https://www.iwmi.org/events/64th-sessions-of-the-unfccc-subsidiary-bod
 ies/
SUMMARY:64th Sessions of the UNFCCC subsidiary bodies
DESCRIPTION:The 64th Sessions of the UNFCCC subsidiary bodies is a critical
  platform for policy and technical prior to the upcoming COP negotiations.
ATTACH;FMTTYPE=image/jpeg:https://mlpyskbirng6.i.optimole.com/cb:Jg6D.e890
 /w:950/h:475/q:mauto/g:sm/f:best/https://www.iwmi.org/wp-content/uploads/2
 026/04/64sb.png
LOCATION:World Conference Center Bonn\, Platz der Vereinten Nationen 2\, bo
 nn\, 53113\, Germany
GEO:50.718814;7.12429
X-APPLE-STRUCTURED-LOCATION;VALUE=URI;X-ADDRESS=Platz der Vereinten Natione
 n 2\, bonn\, 53113\, Germany;X-APPLE-RADIUS=100;X-TITLE=World Conference C
 enter Bonn:geo:50.718814,7.12429
END:VEVENT
BEGIN:VTIMEZONE
TZID:Europe/Berlin
X-LIC-LOCATION:Europe/Berlin
BEGIN:DAYLIGHT
DTSTART:20260329T030000
TZOFFSETFROM:+0100
TZOFFSETTO:+0200
TZNAME:CEST
END:DAYLIGHT
END:VTIMEZONE
END:VCALENDAR