BEGIN:VCALENDAR
VERSION:2.0
PRODID:-//wp-events-plugin.com//7.2.3.1//EN
BEGIN:VEVENT
UID:0-663@iwmi.org
DTSTART;TZID=Europe/Rome:20250402T090000
DTEND;TZID=Europe/Rome:20250403T050000
DTSTAMP:20250324T101254Z
URL:https://www.iwmi.org/events/41st-un-water-meeting/
SUMMARY:41st UN-Water Meeting
DESCRIPTION:\nUN-Water meetings gather UN-Water Members and Partners to coo
 rdinate the UN’s approach to water and sanitation issues.\n\n\n\n\n
ATTACH;FMTTYPE=image/jpeg:https://mlpyskbirng6.i.optimole.com/co-ZpyQ-TUJa
 FPXI/dam:1/w:950/h:244/q:auto/id:2cf7412ba736ce701ab8884431caa746/directUp
 load/41st-UN-Water-Meeting.png
LOCATION:\, Rome\, Italy
GEO:41.896707;12.482203
X-APPLE-STRUCTURED-LOCATION;VALUE=URI;X-ADDRESS=Rome\, Italy;X-APPLE-RADIUS
 =100;X-TITLE=:geo:41.896707,12.482203
END:VEVENT
BEGIN:VTIMEZONE
TZID:Europe/Rome
X-LIC-LOCATION:Europe/Rome
BEGIN:DAYLIGHT
DTSTART:20250330T030000
TZOFFSETFROM:+0100
TZOFFSETTO:+0200
TZNAME:CEST
END:DAYLIGHT
END:VTIMEZONE
END:VCALENDAR