BEGIN:VCALENDAR
VERSION:2.0
PRODID:-//wp-events-plugin.com//7.2.3.1//EN
BEGIN:VEVENT
UID:0-151@iwmi.org
DTSTART;VALUE=DATE:20180531
DTEND;VALUE=DATE:20180603
DTSTAMP:20180522T045923Z
URL:https://www.iwmi.org/events/3rd-indus-basin-knowledge-forum/
SUMMARY:3rd Indus Basin Knowledge Forum
DESCRIPTION:Managing Systems under Stress: Science for Solutions in the Ind
 us Basin
LOCATION:Vienna\, Austria\, Vienna\, Vienna\, Austria
GEO:48.2081743;16.37381890000006
X-APPLE-STRUCTURED-LOCATION;VALUE=URI;X-ADDRESS=Vienna\, Vienna\, Austria;X
 -APPLE-RADIUS=100;X-TITLE=Vienna\, Austria:geo:48.2081743,16.3738189000000
 6
END:VEVENT
END:VCALENDAR